BEGIN:VCALENDAR
VERSION:2.0
PRODID:-//Squarespace Inc/Squarespace 6//v6//EN
BEGIN:VEVENT
UID:5ee024dbca80e6553895728e@squarespace.com
DTSTAMP:20200617T054544Z
DTSTART:20200615T030000Z
DTEND:20200615T040000Z
SUMMARY:Organising young workers amidst COVID-19
END:VEVENT
END:VCALENDAR
