BEGIN:VCALENDAR
VERSION:2.0
PRODID:-//Squarespace Inc/Squarespace 6//v6//EN
BEGIN:VEVENT
UID:5e9fdcc14cd84c7066884c15@squarespace.com
DTSTAMP:20200424T091120Z
DTSTART:20200424T030000Z
DTEND:20200424T040000Z
SUMMARY:What is our responsibility to the world? International development 
 today
END:VEVENT
END:VCALENDAR
