BEGIN:VCALENDAR
VERSION:2.0
PRODID:-//Squarespace Inc/Squarespace 6//v6//EN
BEGIN:VEVENT
UID:5f9a1f05a5460a1e464e8fec@squarespace.com
DTSTAMP:20201104T060540Z
DTSTART:20201104T000000Z
DTEND:20201104T040000Z
SUMMARY:US Election Watch Party
END:VEVENT
END:VCALENDAR
