BEGIN:VCALENDAR
VERSION:2.0
PRODID:-//Squarespace Inc/Squarespace 6//v6//EN
BEGIN:VEVENT
UID:5f9a1ff70acba321a757659e@squarespace.com
DTSTAMP:20201105T035030Z
DTSTART:20201105T020000Z
DTEND:20201105T030000Z
SUMMARY:US Election Post-Mortem: What Happened?
END:VEVENT
END:VCALENDAR
