BEGIN:VCALENDAR
VERSION:2.0
PRODID:-//Squarespace Inc/Squarespace 6//v6//EN
BEGIN:VEVENT
UID:5ea0d372dda0f855b333bc46@squarespace.com
DTSTAMP:20200429T070224Z
DTSTART:20200429T030000Z
DTEND:20200429T040000Z
SUMMARY:UnTrumping America
END:VEVENT
END:VCALENDAR
