BEGIN:VCALENDAR
VERSION:2.0
PRODID:-//Squarespace Inc/Squarespace 6//v6//EN
BEGIN:VEVENT
UID:5f867cf88ae6d9031b3a9c9f@squarespace.com
DTSTAMP:20201112T085322Z
DTSTART:20201112T063000Z
DTEND:20201112T080000Z
SUMMARY:Unpacking the Invisible: examining domestic and family violence in 
 culturally diverse communities
END:VEVENT
END:VCALENDAR
