BEGIN:VCALENDAR
VERSION:2.0
PRODID:-//Squarespace Inc/Squarespace 6//v6//EN
BEGIN:VEVENT
UID:5fb3683493cf7e169d1edd3c@squarespace.com
DTSTAMP:20201126T052540Z
DTSTART:20201126T020000Z
DTEND:20201126T030000Z
SUMMARY:Turning Down the Noise
END:VEVENT
END:VCALENDAR
