BEGIN:VCALENDAR
VERSION:2.0
PRODID:-//Squarespace Inc/Squarespace 6//v6//EN
BEGIN:VEVENT
UID:5ea617b4f9a9ba212f1f3b99@squarespace.com
DTSTAMP:20200430T064654Z
DTSTART:20200430T030000Z
DTEND:20200430T040000Z
SUMMARY:Trust and the Co-Vid App - Can we Rewrite the Rules for Tech? 
END:VEVENT
END:VCALENDAR
