BEGIN:VCALENDAR
VERSION:2.0
PRODID:-//Squarespace Inc/Squarespace 6//v6//EN
BEGIN:VEVENT
UID:5e7dc904506cbf5eb0a9192a@squarespace.com
DTSTAMP:20200415T045900Z
DTSTART:20200402T020000Z
DTEND:20200402T030000Z
SUMMARY:Making a Wage Subsidy Work with Tony Burke
END:VEVENT
END:VCALENDAR
