BEGIN:VCALENDAR
VERSION:2.0
PRODID:-//Squarespace Inc/Squarespace 6//v6//EN
BEGIN:VEVENT
UID:5e7dbea87d4e8e3187245964@squarespace.com
DTSTAMP:20200415T045431Z
DTSTART:20200330T020000Z
DTEND:20200330T030000Z
SUMMARY:Tim Costello / Can there be Charity without Charities?
END:VEVENT
END:VCALENDAR
