BEGIN:VCALENDAR
VERSION:2.0
PRODID:-//Squarespace Inc/Squarespace 6//v6//EN
BEGIN:VEVENT
UID:5eaba4bc0d051f731c03646e@squarespace.com
DTSTAMP:20200506T054552Z
DTSTART:20200506T030000Z
DTEND:20200506T040000Z
SUMMARY:The War on Journalism: press freedom in Australia under attack
END:VEVENT
END:VCALENDAR
