BEGIN:VCALENDAR
VERSION:2.0
PRODID:-//Squarespace Inc/Squarespace 6//v6//EN
BEGIN:VEVENT
UID:5f321d6bee5c0c27907c61f2@squarespace.com
DTSTAMP:20200825T081006Z
DTSTART:20200825T030000Z
DTEND:20200825T040000Z
SUMMARY:The Fortnightly Political Geekfest
END:VEVENT
END:VCALENDAR
