BEGIN:VCALENDAR
VERSION:2.0
PRODID:-//Squarespace Inc/Squarespace 6//v6//EN
BEGIN:VEVENT
UID:6011f182f68f216955411b98@squarespace.com
DTSTAMP:20210205T032448Z
DTSTART:20210205T020000Z
DTEND:20210205T030000Z
SUMMARY:Special Tech Talk - Digital Rights Watch Annual Report Launch
END:VEVENT
END:VCALENDAR
