BEGIN:VCALENDAR
VERSION:2.0
PRODID:-//Squarespace Inc/Squarespace 6//v6//EN
BEGIN:VEVENT
UID:5f463ab50e49e35288b77880@squarespace.com
DTSTAMP:20200904T055851Z
DTSTART:20200904T030000Z
DTEND:20200904T040000Z
SUMMARY:Tech Talk: Facebook Goes Feral
END:VEVENT
END:VCALENDAR
