BEGIN:VCALENDAR
VERSION:2.0
PRODID:-//Squarespace Inc/Squarespace 6//v6//EN
BEGIN:VEVENT
UID:5f1558c740592a3871bf9330@squarespace.com
DTSTAMP:20200724T054858Z
DTSTART:20200724T030000Z
DTEND:20200724T040000Z
SUMMARY:Tech Talk: Contact Tracing\, Keeping Secrets and the Geopolitics of 
 TikTok
END:VEVENT
END:VCALENDAR
