BEGIN:VCALENDAR
VERSION:2.0
PRODID:-//Squarespace Inc/Squarespace 6//v6//EN
BEGIN:VEVENT
UID:5fb33d9d698e2e25255b0e14@squarespace.com
DTSTAMP:20201127T042242Z
DTSTART:20201127T020000Z
DTEND:20201127T030000Z
SUMMARY:D-Day for the Media Code\, Spying on School Kids and Do Smart Build
 ings Need Ethics?
END:VEVENT
END:VCALENDAR
