BEGIN:VCALENDAR
VERSION:2.0
PRODID:-//Squarespace Inc/Squarespace 6//v6//EN
BEGIN:VEVENT
UID:601ca9eb3a3f107368ee4544@squarespace.com
DTSTAMP:20210226T031801Z
DTSTART:20210226T020000Z
DTEND:20210226T030000Z
SUMMARY:Tech Talk: So did anything happen over summer? 
END:VEVENT
END:VCALENDAR
