BEGIN:VCALENDAR
VERSION:2.0
PRODID:-//Squarespace Inc/Squarespace 6//v6//EN
BEGIN:VEVENT
UID:5f7688a126898761b504df65@squarespace.com
DTSTAMP:20201016T031251Z
DTSTART:20201016T020000Z
DTEND:20201016T030000Z
SUMMARY:Tech Talk - Democracy and All That Stuff…
END:VEVENT
END:VCALENDAR
