BEGIN:VCALENDAR
VERSION:2.0
PRODID:-//Squarespace Inc/Squarespace 6//v6//EN
BEGIN:VEVENT
UID:5fa46ef8f2217b6f8c21beef@squarespace.com
DTSTAMP:20201117T030357Z
DTSTART:20201113T020000Z
DTEND:20201113T030000Z
SUMMARY:Tech Talk - Towards an Australian Data Code
END:VEVENT
END:VCALENDAR
