BEGIN:VCALENDAR
VERSION:2.0
PRODID:-//Squarespace Inc/Squarespace 6//v6//EN
BEGIN:VEVENT
UID:5fc45538bc819f1cf462f238@squarespace.com
DTSTAMP:20210127T230434Z
DTSTART:20201211T020000Z
DTEND:20201211T030000Z
SUMMARY:The Year in Tech - a special Tech Talk with Human Rights Commission
 er Ed Santow
END:VEVENT
END:VCALENDAR
