BEGIN:VCALENDAR
VERSION:2.0
PRODID:-//Squarespace Inc/Squarespace 6//v6//EN
BEGIN:VEVENT
UID:5f3274c6ec1a8c6d00e6f9fc@squarespace.com
DTSTAMP:20200821T080946Z
DTSTART:20200821T030000Z
DTEND:20200821T040000Z
SUMMARY:Tech Talk: Google goes postal\, algorithmic classrooms and Andrew F
 orrest's big tech gambit
END:VEVENT
END:VCALENDAR
