BEGIN:VCALENDAR
VERSION:2.0
PRODID:-//Squarespace Inc/Squarespace 6//v6//EN
BEGIN:VEVENT
UID:5f2128e938e36e519508036c@squarespace.com
DTSTAMP:20200807T055901Z
DTSTART:20200807T030000Z
DTEND:20200807T040000Z
SUMMARY:Tech Talk - The People v Google\, 'tech-turfing' and the Uber class 
 action.
END:VEVENT
END:VCALENDAR
