BEGIN:VCALENDAR
VERSION:2.0
PRODID:-//Squarespace Inc/Squarespace 6//v6//EN
BEGIN:VEVENT
UID:5f02ecd3362f28571120d29b@squarespace.com
DTSTAMP:20200710T065746Z
DTSTART:20200710T030000Z
DTEND:20200710T040000Z
SUMMARY:Tech Talk: BigTech’s Great Disruption
END:VEVENT
END:VCALENDAR
