BEGIN:VCALENDAR
VERSION:2.0
PRODID:-//Squarespace Inc/Squarespace 6//v6//EN
BEGIN:VEVENT
UID:5f8e5d6d5b50e15884329458@squarespace.com
DTSTAMP:20201030T045649Z
DTSTART:20201030T020000Z
DTEND:20201030T030000Z
SUMMARY:Tech Talk - the Inside Track
END:VEVENT
END:VCALENDAR
