BEGIN:VCALENDAR
VERSION:2.0
PRODID:-//Squarespace Inc/Squarespace 6//v6//EN
BEGIN:VEVENT
UID:5ea8ba66f665732eb7564141@squarespace.com
DTSTAMP:20200501T060343Z
DTSTART:20200501T030000Z
DTEND:20200501T040000Z
SUMMARY:Talking Photos
END:VEVENT
END:VCALENDAR
