BEGIN:VCALENDAR
VERSION:2.0
PRODID:-//Squarespace Inc/Squarespace 6//v6//EN
BEGIN:VEVENT
UID:5eb4b90ba6decf483328578f@squarespace.com
DTSTAMP:20200513T045825Z
DTSTART:20200513T030000Z
DTEND:20200513T040000Z
SUMMARY:Surviving Extremes
END:VEVENT
END:VCALENDAR
