BEGIN:VCALENDAR
VERSION:2.0
PRODID:-//Squarespace Inc/Squarespace 6//v6//EN
BEGIN:VEVENT
UID:5e827c9804cea71fa8815a1b@squarespace.com
DTSTAMP:20200415T045948Z
DTSTART:20200403T020000Z
DTEND:20200403T030000Z
SUMMARY:Strong: resilience in challenging times - Daniel Stone in conversat
 ion with guests
END:VEVENT
END:VCALENDAR
