BEGIN:VCALENDAR
VERSION:2.0
PRODID:-//Squarespace Inc/Squarespace 6//v6//EN
BEGIN:VEVENT
UID:6036e32571e0130d4dd22d7d@squarespace.com
DTSTAMP:20210226T051903Z
DTSTART:20210330T233000Z
DTEND:20210331T010000Z
SUMMARY:Stronger Starts\, Brighter Futures - Exploring trends in the early 
 development of children from CALD backgrounds in Australia
END:VEVENT
END:VCALENDAR
