BEGIN:VCALENDAR
VERSION:2.0
PRODID:-//Squarespace Inc/Squarespace 6//v6//EN
BEGIN:VEVENT
UID:5ed75172caa58f5a2e9667c3@squarespace.com
DTSTAMP:20200618T222125Z
DTSTART:20200618T030000Z
DTEND:20200618T040000Z
SUMMARY:Foundations for Belonging: A snapshot of newly arrived refugees
END:VEVENT
END:VCALENDAR
