BEGIN:VCALENDAR
VERSION:2.0
PRODID:-//Squarespace Inc/Squarespace 6//v6//EN
BEGIN:VEVENT
UID:5f7186e035ffa16c0e95da81@squarespace.com
DTSTAMP:20201002T042241Z
DTSTART:20201002T030000Z
DTEND:20201002T040000Z
SUMMARY:Special Tech Talk - NetThing Conference
END:VEVENT
END:VCALENDAR
