BEGIN:VCALENDAR
VERSION:2.0
PRODID:-//Squarespace Inc/Squarespace 6//v6//EN
BEGIN:VEVENT
UID:5f3e41aac548a00bf6f6dcb5@squarespace.com
DTSTAMP:20200827T040621Z
DTSTART:20200827T030000Z
DTEND:20200827T040000Z
SUMMARY:From Snow to Ash: The Fight to Save The Australian Alps
END:VEVENT
END:VCALENDAR
