BEGIN:VCALENDAR
VERSION:2.0
PRODID:-//Squarespace Inc/Squarespace 6//v6//EN
BEGIN:VEVENT
UID:5fb71909ec1aaa5ceb315120@squarespace.com
DTSTAMP:20201203T031155Z
DTSTART:20201203T020000Z
DTEND:20201203T030000Z
SUMMARY:Shifting the Needle: Protecting Australia by Vaccinating our Region
END:VEVENT
END:VCALENDAR
