BEGIN:VCALENDAR
VERSION:2.0
PRODID:-//Squarespace Inc/Squarespace 6//v6//EN
BEGIN:VEVENT
UID:5e8ebc59732afc4052c7032c@squarespace.com
DTSTAMP:20200416T042723Z
DTSTART:20200416T030000Z
DTEND:20200416T040000Z
SUMMARY:’New World Order - can the Covid19 disruption rewrite the rule for 
 workers?’ with Global unions leader Sharan Burrow. 
END:VEVENT
END:VCALENDAR
