BEGIN:VCALENDAR
VERSION:2.0
PRODID:-//Squarespace Inc/Squarespace 6//v6//EN
BEGIN:VEVENT
UID:5e7db171b4d27021652d8ac3@squarespace.com
DTSTAMP:20200415T045816Z
DTSTART:20200401T020000Z
DTEND:20200401T030000Z
SUMMARY:Holding the nation together: Sam Mostyn in conversation with Traver
 s McLeod
END:VEVENT
END:VCALENDAR
