BEGIN:VCALENDAR
VERSION:2.0
PRODID:-//Squarespace Inc/Squarespace 6//v6//EN
BEGIN:VEVENT
UID:5f4b65c8af5488518038db2c@squarespace.com
DTSTAMP:20200910T070914Z
DTSTART:20200910T030000Z
DTEND:20200910T040000Z
SUMMARY:R U OK?Day
END:VEVENT
END:VCALENDAR
