BEGIN:VCALENDAR
VERSION:2.0
PRODID:-//Squarespace Inc/Squarespace 6//v6//EN
BEGIN:VEVENT
UID:5ecef53f43434a3117b63ed6@squarespace.com
DTSTAMP:20200610T053614Z
DTSTART:20200610T030000Z
DTEND:20200610T040000Z
SUMMARY:Workplace Surveillance and the Future of Work
END:VEVENT
END:VCALENDAR
