BEGIN:VCALENDAR
VERSION:2.0
PRODID:-//Squarespace Inc/Squarespace 6//v6//EN
BEGIN:VEVENT
UID:5f60101f37fe5c1128b16d26@squarespace.com
DTSTAMP:20200924T070934Z
DTSTART:20200924T030000Z
DTEND:20200924T040000Z
SUMMARY:Rental Nation
END:VEVENT
END:VCALENDAR
