BEGIN:VCALENDAR
VERSION:2.0
PRODID:-//Squarespace Inc/Squarespace 6//v6//EN
BEGIN:VEVENT
UID:5f865beebd9ccc647c184f07@squarespace.com
DTSTAMP:20201022T052738Z
DTSTART:20201022T020000Z
DTEND:20201022T030000Z
SUMMARY:Remembering Jack Mundey and the Green Bans
END:VEVENT
END:VCALENDAR
