BEGIN:VCALENDAR
VERSION:2.0
PRODID:-//Squarespace Inc/Squarespace 6//v6//EN
BEGIN:VEVENT
UID:5ea8f54ec93b8b6a95f1dbe5@squarespace.com
DTSTAMP:20200504T082848Z
DTSTART:20200504T030000Z
DTEND:20200504T040000Z
SUMMARY:Safe Refuge: What happens when the world closes its borders?
END:VEVENT
END:VCALENDAR
