BEGIN:VCALENDAR
VERSION:2.0
PRODID:-//Squarespace Inc/Squarespace 6//v6//EN
BEGIN:VEVENT
UID:5f7cffe2f8fcf015e0518c45@squarespace.com
DTSTAMP:20201013T035721Z
DTSTART:20201013T020000Z
DTEND:20201013T030000Z
SUMMARY:Reconnected: A Community Builder’s Handbook
END:VEVENT
END:VCALENDAR
