BEGIN:VCALENDAR
VERSION:2.0
PRODID:-//Squarespace Inc/Squarespace 6//v6//EN
BEGIN:VEVENT
UID:5ecdeb99d631254570afbd93@squarespace.com
DTSTAMP:20200601T045916Z
DTSTART:20200601T030000Z
DTEND:20200601T040000Z
SUMMARY:Reconciliation Week: In This Together
END:VEVENT
END:VCALENDAR
