BEGIN:VCALENDAR
VERSION:2.0
PRODID:-//Squarespace Inc/Squarespace 6//v6//EN
BEGIN:VEVENT
UID:5e8eaa9d334de175063e3cb1@squarespace.com
DTSTAMP:20200415T044846Z
DTSTART:20200415T030000Z
DTEND:20200415T040000Z
SUMMARY:'Confronting the Racism Virus' with Tim Soutphommasane &amp\; Jason 
 Li
END:VEVENT
END:VCALENDAR
