BEGIN:VCALENDAR
VERSION:2.0
PRODID:-//Squarespace Inc/Squarespace 6//v6//EN
BEGIN:VEVENT
UID:5eaf69a78d5f1209a8594e23@squarespace.com
DTSTAMP:20200510T115445Z
DTSTART:20200512T030000Z
DTEND:20200512T040000Z
SUMMARY:Political Geekfest with Katharine Murphy and Peter Lewis
END:VEVENT
END:VCALENDAR
