BEGIN:VCALENDAR
VERSION:2.0
PRODID:-//Squarespace Inc/Squarespace 6//v6//EN
BEGIN:VEVENT
UID:5ebcf2434f5909212576f09f@squarespace.com
DTSTAMP:20200518T072200Z
DTSTART:20200518T030000Z
DTEND:20200518T040000Z
SUMMARY:Policing the Pandemic – Are we crossing the thin blue line?
END:VEVENT
END:VCALENDAR
