BEGIN:VCALENDAR
VERSION:2.0
PRODID:-//Squarespace Inc/Squarespace 6//v6//EN
BEGIN:VEVENT
UID:5ec78beae3537d3e3e1ee976@squarespace.com
DTSTAMP:20200529T081138Z
DTSTART:20200529T010000Z
DTEND:20200529T040000Z
SUMMARY:Jobs for Australia: A New Call for Full Employment
END:VEVENT
END:VCALENDAR
