BEGIN:VCALENDAR
VERSION:2.0
PRODID:-//Squarespace Inc/Squarespace 6//v6//EN
BEGIN:VEVENT
UID:5ed0cd5b8302042c26af2526@squarespace.com
DTSTAMP:20200604T080906Z
DTSTART:20200604T030000Z
DTEND:20200604T040000Z
SUMMARY:A viral history of the world
END:VEVENT
END:VCALENDAR
