BEGIN:VCALENDAR
VERSION:2.0
PRODID:-//Squarespace Inc/Squarespace 6//v6//EN
BEGIN:VEVENT
UID:5f3274a58fc6a63b199fa546@squarespace.com
DTSTAMP:20200818T053416Z
DTSTART:20200818T030000Z
DTEND:20200818T040000Z
SUMMARY:Body count: How climate change is killing us
END:VEVENT
END:VCALENDAR
