BEGIN:VCALENDAR
VERSION:2.0
PRODID:-//Squarespace Inc/Squarespace 6//v6//EN
BEGIN:VEVENT
UID:5f47a204f6663936f81f75bf@squarespace.com
DTSTAMP:20200908T050032Z
DTSTART:20200908T030000Z
DTEND:20200908T040000Z
SUMMARY:A Special Geekfest: Katharine's Quarterly Essay
END:VEVENT
END:VCALENDAR
