BEGIN:VCALENDAR
VERSION:2.0
PRODID:-//Squarespace Inc/Squarespace 6//v6//EN
BEGIN:VEVENT
UID:5f866d698ae6d9031b38b195@squarespace.com
DTSTAMP:20201029T065117Z
DTSTART:20201029T020000Z
DTEND:20201029T033000Z
SUMMARY:Our Energy Future - Have Your Say!
END:VEVENT
END:VCALENDAR
