BEGIN:VCALENDAR
VERSION:2.0
PRODID:-//Squarespace Inc/Squarespace 6//v6//EN
BEGIN:VEVENT
UID:5f71487e8bc678271894638b@squarespace.com
DTSTAMP:20200928T022515Z
DTSTART:20201001T030000Z
DTEND:20201001T040000Z
SUMMARY:National Youth Disability Summit - Our Voices. Our Visions.
END:VEVENT
END:VCALENDAR
